BEGIN:VCALENDAR
VERSION:2.0
PRODID:-//wp-events-plugin.com//7.2.3.1//EN
TZID:Europe/Berlin
X-WR-TIMEZONE:Europe/Berlin
BEGIN:VEVENT
UID:102@sietareu.org
DTSTART;TZID=Europe/Berlin:20220801T150000
DTEND;TZID=Europe/Berlin:20220801T160000
DTSTAMP:20220727T090142Z
URL:https://sietareu.org/events/august-meetup/
SUMMARY:Power of the Word
DESCRIPTION:We are in for a wonderful discussion in our next DMeetUp on the
  1st of August\, at 3 p.m. CET\, with Dr. Larissa Chuprina\, a long-time S
 IETARian\, Positive Psychology Practitioner\, and ESL and Culture Coach wh
 ose passion is in how we use words creatively. We will enjoy an interactiv
 e session exploring how the words we...\n\nhttps://sietareu.org/events/aug
 ust-meetup/
ATTACH;FMTTYPE=image/jpeg:https://sietareu.org/wp-content/uploads/iconDMee
 tUp300a.png
CATEGORIES:DMeetUp
END:VEVENT
BEGIN:VTIMEZONE
TZID:Europe/Berlin
X-LIC-LOCATION:Europe/Berlin
BEGIN:DAYLIGHT
DTSTART:20220327T030000
TZOFFSETFROM:+0100
TZOFFSETTO:+0200
TZNAME:CEST
END:DAYLIGHT
END:VTIMEZONE
END:VCALENDAR