BEGIN:VCALENDAR
VERSION:2.0
PRODID:-//wp-events-plugin.com//7.2.3.1//EN
TZID:Europe/Berlin
X-WR-TIMEZONE:Europe/Berlin
BEGIN:VEVENT
UID:147@sietareu.org
DTSTART;TZID=Europe/Berlin:20230807T150000
DTEND;TZID=Europe/Berlin:20230807T161500
DTSTAMP:20231003T094351Z
URL:https://sietareu.org/events/aug23-dmeetup/
SUMMARY:DMeetUp w/ Dr Katharina Addington-Lefringhausen and RAAS team
DESCRIPTION:How to Support the Cultural Journeys of Refugees and their Volu
 nteers Our next DMeetUp on the 7th of August\, at 3 p.m. CET is hosting no
 t a single speaker but a team! Dr Katharina Addington-Lefringhausen\, Jani
 na Neumann\, Caroline Lowish\, Linda Pilling\, and Anne-Claude Lambelet 
 – the RAAS project members\, are exploring the theme How to...\n\nhttps:
 //sietareu.org/events/aug23-dmeetup/
ATTACH;FMTTYPE=image/jpeg:https://sietareu.org/wp-content/uploads/iconDMee
 tUp300a.png
CATEGORIES:DMeetUp
END:VEVENT
BEGIN:VTIMEZONE
TZID:Europe/Berlin
X-LIC-LOCATION:Europe/Berlin
BEGIN:DAYLIGHT
DTSTART:20230326T030000
TZOFFSETFROM:+0100
TZOFFSETTO:+0200
TZNAME:CEST
END:DAYLIGHT
END:VTIMEZONE
END:VCALENDAR