BEGIN:VCALENDAR
VERSION:2.0
PRODID:-//wp-events-plugin.com//7.2.3.1//EN
TZID:Europe/Berlin
X-WR-TIMEZONE:Europe/Berlin
BEGIN:VEVENT
UID:71@sietareu.org
DTSTART;TZID=Europe/Berlin:20220420T170000
DTEND;TZID=Europe/Berlin:20220420T183000
DTSTAMP:20220316T091601Z
URL:https://sietareu.org/events/argument-how-to-discuss-controversial-issu
 es/
SUMMARY:Argument! How to Discuss Controversial Issues
DESCRIPTION:Argument! How to Discuss Controversial Issues facilitated by An
 nabelle Baumann This workshop will empower participants to be able to addr
 ess and resolve difficult cultural issue and conflicts using a variety of 
 tools including the HIVE (Honest\, Insightful\, Valuable Engagement) model
  and gamified exchange to create a safe space to step into those difficult
  topics. Join...\n\nhttps://sietareu.org/events/argument-how-to-discuss-co
 ntroversial-issues/
ATTACH;FMTTYPE=image/jpeg:https://sietareu.org/wp-content/uploads/iconPlay
 ground300.png
CATEGORIES:Intercultural Playground
END:VEVENT
BEGIN:VTIMEZONE
TZID:Europe/Berlin
X-LIC-LOCATION:Europe/Berlin
BEGIN:DAYLIGHT
DTSTART:20220327T030000
TZOFFSETFROM:+0100
TZOFFSETTO:+0200
TZNAME:CEST
END:DAYLIGHT
END:VTIMEZONE
END:VCALENDAR