BEGIN:VCALENDAR
VERSION:2.0
PRODID:-//wp-events-plugin.com//7.2.3.1//EN
TZID:Europe/Berlin
X-WR-TIMEZONE:Europe/Berlin
BEGIN:VEVENT
UID:88@sietareu.org
DTSTART;TZID=Europe/Berlin:20221208T180000
DTEND;TZID=Europe/Berlin:20221208T190000
DTSTAMP:20220316T091853Z
URL:https://sietareu.org/events/are-you-listening/
SUMMARY:Are You Listening?
DESCRIPTION:In communicating within intercultural groups or in one-to-one d
 iscussions\, it is helpful to understand how we listen to each other. In t
 his webinar we will discover the important difference between hearing and 
 listening. We'll take a look at 4 kinds of listening: Visual\, Kinesthetic
 \, Imaginary and Emotional in order to better identify what kind of...\n\n
 https://sietareu.org/events/are-you-listening/
ATTACH;FMTTYPE=image/jpeg:https://sietareu.org/wp-content/uploads/iconWebi
 nar300.png
CATEGORIES:Webinar
END:VEVENT
BEGIN:VTIMEZONE
TZID:Europe/Berlin
X-LIC-LOCATION:Europe/Berlin
BEGIN:STANDARD
DTSTART:20221030T020000
TZOFFSETFROM:+0200
TZOFFSETTO:+0100
TZNAME:CET
END:STANDARD
END:VTIMEZONE
END:VCALENDAR