BEGIN:VCALENDAR
VERSION:2.0
PRODID:-//wp-events-plugin.com//7.2.3.1//EN
TZID:Europe/Berlin
X-WR-TIMEZONE:Europe/Berlin
BEGIN:VEVENT
UID:73@sietareu.org
DTSTART;TZID=Europe/Berlin:20220404T150000
DTEND;TZID=Europe/Berlin:20220404T160000
DTSTAMP:20220320T034913Z
URL:https://sietareu.org/events/april-dmeetup/
SUMMARY:Adding Intercultural Competence to the Mix
DESCRIPTION:At our next DMeetUp of the 4th of April\, at 3 p.m. CET\, our c
 olleague from Canada (yes\, SIETAR DMs live also in Canada!) Nitin Deckha 
 offers to explore together the topic of Adding Intercultural Competence to
  the Mix of Diversity\, Equity\, Inclusion\, and Belonging Intercultural t
 rainers and practitioners and diversity\, equity and inclusion specialists
 ...\n\nhttps://sietareu.org/events/april-dmeetup/
ATTACH;FMTTYPE=image/jpeg:https://sietareu.org/wp-content/uploads/iconDMee
 tUp300a.png
CATEGORIES:DMeetUp
END:VEVENT
BEGIN:VTIMEZONE
TZID:Europe/Berlin
X-LIC-LOCATION:Europe/Berlin
BEGIN:DAYLIGHT
DTSTART:20220327T030000
TZOFFSETFROM:+0100
TZOFFSETTO:+0200
TZNAME:CEST
END:DAYLIGHT
END:VTIMEZONE
END:VCALENDAR