BEGIN:VCALENDAR
VERSION:2.0
PRODID:-//wp-events-plugin.com//7.2.3.1//EN
TZID:Europe/Berlin
X-WR-TIMEZONE:Europe/Berlin
BEGIN:VEVENT
UID:136@sietareu.org
DTSTART;TZID=Europe/Berlin:20230403T150000
DTEND;TZID=Europe/Berlin:20230403T160000
DTSTAMP:20231003T094417Z
URL:https://sietareu.org/events/apr23-dmeetup/
SUMMARY:DMeetup w/ Brett Parry and Christian Höferle
DESCRIPTION:Dear Direct Members\, Dear SIETARians\, Spring is in the air\; 
 it encourages us to be lighthearted and uplifted which hopefully we are. S
 pring also brings new hopes for the changes we want but for them to happen
  we need to do something\, otherwise\, hopes will only remain hopes. At th
 e next DMeetUp on the 3rd...\n\nhttps://sietareu.org/events/apr23-dmeetup/
ATTACH;FMTTYPE=image/jpeg:https://sietareu.org/wp-content/uploads/iconDMee
 tUp300a.png
CATEGORIES:DMeetUp
END:VEVENT
BEGIN:VTIMEZONE
TZID:Europe/Berlin
X-LIC-LOCATION:Europe/Berlin
BEGIN:DAYLIGHT
DTSTART:20230326T030000
TZOFFSETFROM:+0100
TZOFFSETTO:+0200
TZNAME:CEST
END:DAYLIGHT
END:VTIMEZONE
END:VCALENDAR