BEGIN:VCALENDAR
VERSION:2.0
PRODID:-//wp-events-plugin.com//7.2.3.1//EN
TZID:Europe/Berlin
X-WR-TIMEZONE:Europe/Berlin
BEGIN:VEVENT
UID:180@sietareu.org
DTSTART;TZID=Europe/Berlin:20240416T170000
DTEND;TZID=Europe/Berlin:20240416T181500
DTSTAMP:20240405T061900Z
URL:https://sietareu.org/events/ai-intercultural-synergies/
SUMMARY:AI & Intercultural Synergies: Exploring New Horizons
DESCRIPTION:Join us for an enlightening journey into the future of technolo
 gy and culture with SIETAR AI &amp\; Intercultural Work We're excited to i
 nvite you to our exclusive webinar\, designed to enhance your understandin
 g of Artificial Intelligence and its significant role in our intercultural
  endeavors. 🌟 Webinar Highlights: AI &amp\; Intercultural Synergies: Ex
 ploring New Horizons Featuring:...\n\nhttps://sietareu.org/events/ai-inter
 cultural-synergies/
ATTACH;FMTTYPE=image/jpeg:https://sietareu.org/wp-content/uploads/iconWebi
 nar300.png
CATEGORIES:Webinar
END:VEVENT
BEGIN:VTIMEZONE
TZID:Europe/Berlin
X-LIC-LOCATION:Europe/Berlin
BEGIN:DAYLIGHT
DTSTART:20240331T030000
TZOFFSETFROM:+0100
TZOFFSETTO:+0200
TZNAME:CEST
END:DAYLIGHT
END:VTIMEZONE
END:VCALENDAR