BEGIN:VCALENDAR
VERSION:2.0
PRODID:-//wp-events-plugin.com//7.2.3.1//EN
TZID:Europe/Berlin
X-WR-TIMEZONE:Europe/Berlin
BEGIN:VEVENT
UID:199@sietareu.org
DTSTART;TZID=Europe/Berlin:20240530T180000
DTEND;TZID=Europe/Berlin:20240530T190000
DTSTAMP:20240522T102742Z
URL:https://sietareu.org/events/advancing-equity-and-empowering-people-for
 -systemic-progress/
SUMMARY:Advancing Equity and Empowering People for Systemic Progress
DESCRIPTION:Join us for an insightful discussion on "Advancing Equity and E
 mpowering People for Systemic Progress." This event aims to explore the in
 terconnected goals of addressing inequity in people systems and leveraging
  human potential to drive societal and organizational change. Key Discussi
 on Points: Understanding Inequity: Identifying and addressing disparities.
  Systemic Changes:Strategies for implementing sustainable changes. Empower
 ing...\n\nhttps://sietareu.org/events/advancing-equity-and-empowering-peop
 le-for-systemic-progress/
CATEGORIES:DEIB Learning Series
END:VEVENT
BEGIN:VTIMEZONE
TZID:Europe/Berlin
X-LIC-LOCATION:Europe/Berlin
BEGIN:DAYLIGHT
DTSTART:20240331T030000
TZOFFSETFROM:+0100
TZOFFSETTO:+0200
TZNAME:CEST
END:DAYLIGHT
END:VTIMEZONE
END:VCALENDAR